Package: alabaster.matrix Version: 1.9.0 Command: F:\biocbuild\bbs-3.22-bioc\R\bin\R.exe CMD check --no-multiarch --install=check:alabaster.matrix.install-out.txt --library=F:\biocbuild\bbs-3.22-bioc\R\library --no-vignettes --timings alabaster.matrix_1.9.0.tar.gz StartedAt: 2025-08-15 00:24:18 -0400 (Fri, 15 Aug 2025) EndedAt: 2025-08-15 00:30:04 -0400 (Fri, 15 Aug 2025) EllapsedTime: 345.2 seconds RetCode: 0 Status: OK CheckDir: alabaster.matrix.Rcheck Warnings: 0