Package: alabaster.matrix Version: 1.9.0 Command: /Library/Frameworks/R.framework/Resources/bin/R CMD check --install=check:alabaster.matrix.install-out.txt --library=/Library/Frameworks/R.framework/Resources/library --no-vignettes --timings alabaster.matrix_1.9.0.tar.gz StartedAt: 2025-10-19 20:15:53 -0400 (Sun, 19 Oct 2025) EndedAt: 2025-10-19 20:20:36 -0400 (Sun, 19 Oct 2025) EllapsedTime: 282.6 seconds RetCode: 0 Status: OK CheckDir: alabaster.matrix.Rcheck Warnings: 0