Package: alabaster.matrix Version: 1.9.0 Command: /Library/Frameworks/R.framework/Resources/bin/R CMD build --keep-empty-dirs --no-resave-data alabaster.matrix StartedAt: 2025-10-19 16:01:04 -0400 (Sun, 19 Oct 2025) EndedAt: 2025-10-19 16:01:48 -0400 (Sun, 19 Oct 2025) EllapsedTime: 44.7 seconds RetCode: 0 Status: OK PackageFile: alabaster.matrix_1.9.0.tar.gz PackageFileSize: 274.3 KiB