Package: alabaster.matrix Version: 1.9.0 Command: /Library/Frameworks/R.framework/Resources/bin/R CMD INSTALL alabaster.matrix StartedAt: 2025-10-19 15:08:55 -0400 (Sun, 19 Oct 2025) EndedAt: 2025-10-19 15:09:06 -0400 (Sun, 19 Oct 2025) EllapsedTime: 11.0 seconds RetCode: 0 Status: OK