Package: alabaster.mae Version: 1.9.0 Command: /home/biocbuild/R/R/bin/R CMD INSTALL alabaster.mae StartedAt: 2025-10-23 20:55:42 -0000 (Thu, 23 Oct 2025) EndedAt: 2025-10-23 20:56:17 -0000 (Thu, 23 Oct 2025) EllapsedTime: 35.3 seconds RetCode: 0 Status: OK