Package: alabaster.mae Version: 1.9.0 Command: F:\biocbuild\bbs-3.22-bioc\R\bin\R.exe CMD INSTALL alabaster.mae StartedAt: 2025-08-14 16:33:09 -0400 (Thu, 14 Aug 2025) EndedAt: 2025-08-14 16:33:42 -0400 (Thu, 14 Aug 2025) EllapsedTime: 33.1 seconds RetCode: 0 Status: OK