Package: alabaster.mae Version: 1.9.0 Command: chmod a+r alabaster.mae -R && F:\biocbuild\bbs-3.22-bioc\R\bin\R.exe CMD build --keep-empty-dirs --no-resave-data alabaster.mae StartedAt: 2025-08-14 18:23:27 -0400 (Thu, 14 Aug 2025) EndedAt: 2025-08-14 18:24:21 -0400 (Thu, 14 Aug 2025) EllapsedTime: 54.4 seconds RetCode: 0 Status: OK PackageFile: alabaster.mae_1.9.0.tar.gz PackageFileSize: 222.6 KiB