Package: alabaster.mae Version: 1.9.0 Command: rm -rf alabaster.mae.buildbin-libdir && mkdir alabaster.mae.buildbin-libdir && /Users/biocbuild/BBS/utils/build-universal.sh alabaster.mae_1.9.0.tar.gz /Library/Frameworks/R.framework/Resources/bin/R alabaster.mae.buildbin-libdir StartedAt: 2025-10-11 02:16:28 -0400 (Sat, 11 Oct 2025) EndedAt: 2025-10-11 02:17:12 -0400 (Sat, 11 Oct 2025) EllapsedTime: 43.7 seconds RetCode: 0 Status: OK PackageFile: alabaster.mae_1.9.0.tgz PackageFileSize: 342.6 KiB