Package: alabaster.files Version: 1.7.0 Command: /home/biocbuild/R/R/bin/R CMD INSTALL alabaster.files StartedAt: 2025-10-16 21:36:34 -0000 (Thu, 16 Oct 2025) EndedAt: 2025-10-16 21:36:54 -0000 (Thu, 16 Oct 2025) EllapsedTime: 20.3 seconds RetCode: 0 Status: OK