Package: alabaster.files Version: 1.7.0 Command: /home/biocbuild/R/R/bin/R CMD check --install=check:alabaster.files.install-out.txt --library=/home/biocbuild/R/R/site-library --no-vignettes --timings alabaster.files_1.7.0.tar.gz StartedAt: 2025-10-17 05:54:57 -0000 (Fri, 17 Oct 2025) EndedAt: 2025-10-17 05:57:32 -0000 (Fri, 17 Oct 2025) EllapsedTime: 155.3 seconds RetCode: 0 Status: OK CheckDir: alabaster.files.Rcheck Warnings: 0