Package: alabaster.files Version: 1.7.0 Command: F:\biocbuild\bbs-3.22-bioc\R\bin\R.exe CMD INSTALL alabaster.files StartedAt: 2025-08-14 15:53:16 -0400 (Thu, 14 Aug 2025) EndedAt: 2025-08-14 15:54:05 -0400 (Thu, 14 Aug 2025) EllapsedTime: 48.7 seconds RetCode: 0 Status: OK