Package: alabaster.files Version: 1.7.0 Command: /Library/Frameworks/R.framework/Resources/bin/R CMD INSTALL alabaster.files StartedAt: 2025-09-30 15:23:42 -0400 (Tue, 30 Sep 2025) EndedAt: 2025-09-30 15:24:03 -0400 (Tue, 30 Sep 2025) EllapsedTime: 20.7 seconds RetCode: 0 Status: OK