Package: alabaster.files Version: 1.7.0 Command: /Library/Frameworks/R.framework/Resources/bin/R CMD check --install=check:alabaster.files.install-out.txt --library=/Library/Frameworks/R.framework/Resources/library --no-vignettes --timings alabaster.files_1.7.0.tar.gz StartedAt: 2025-10-01 19:30:24 -0400 (Wed, 01 Oct 2025) EndedAt: 2025-10-01 19:32:38 -0400 (Wed, 01 Oct 2025) EllapsedTime: 133.7 seconds RetCode: 0 Status: OK CheckDir: alabaster.files.Rcheck Warnings: 0