Package: alabaster.files Version: 1.7.0 Command: /Library/Frameworks/R.framework/Resources/bin/R CMD build --keep-empty-dirs --no-resave-data alabaster.files StartedAt: 2025-09-30 15:58:24 -0400 (Tue, 30 Sep 2025) EndedAt: 2025-09-30 15:58:52 -0400 (Tue, 30 Sep 2025) EllapsedTime: 27.5 seconds RetCode: 0 Status: OK PackageFile: alabaster.files_1.7.0.tar.gz PackageFileSize: 234.1 KiB