Package: alabaster.files Version: 1.7.0 Command: /Library/Frameworks/R.framework/Resources/bin/R CMD build --keep-empty-dirs --no-resave-data alabaster.files StartedAt: 2025-10-19 15:36:19 -0400 (Sun, 19 Oct 2025) EndedAt: 2025-10-19 15:36:27 -0400 (Sun, 19 Oct 2025) EllapsedTime: 8.1 seconds RetCode: 0 Status: OK PackageFile: alabaster.files_1.7.0.tar.gz PackageFileSize: 234.1 KiB