Package: airpart Version: 1.17.0 Command: /Library/Frameworks/R.framework/Resources/bin/R CMD INSTALL airpart StartedAt: 2025-10-03 15:49:26 -0400 (Fri, 03 Oct 2025) EndedAt: 2025-10-03 15:50:10 -0400 (Fri, 03 Oct 2025) EllapsedTime: 44.6 seconds RetCode: 0 Status: OK