Package: airpart Version: 1.17.0 Command: /Library/Frameworks/R.framework/Resources/bin/R CMD INSTALL airpart StartedAt: 2025-10-03 15:29:46 -0400 (Fri, 03 Oct 2025) EndedAt: 2025-10-03 15:30:02 -0400 (Fri, 03 Oct 2025) EllapsedTime: 15.5 seconds RetCode: 0 Status: OK