Package: airpart Version: 1.17.0 Command: /Library/Frameworks/R.framework/Resources/bin/R CMD build --keep-empty-dirs --no-resave-data airpart StartedAt: 2025-10-03 15:36:00 -0400 (Fri, 03 Oct 2025) EndedAt: 2025-10-03 15:36:29 -0400 (Fri, 03 Oct 2025) EllapsedTime: 28.3 seconds RetCode: 0 Status: OK PackageFile: airpart_1.17.0.tar.gz PackageFileSize: 1.487 MiB