Package: airpart Version: 1.17.0 Command: rm -rf airpart.buildbin-libdir && mkdir airpart.buildbin-libdir && /Users/biocbuild/BBS/utils/build-universal.sh airpart_1.17.0.tar.gz /Library/Frameworks/R.framework/Resources/bin/R airpart.buildbin-libdir StartedAt: 2025-10-03 22:30:04 -0400 (Fri, 03 Oct 2025) EndedAt: 2025-10-03 22:30:19 -0400 (Fri, 03 Oct 2025) EllapsedTime: 14.2 seconds RetCode: 0 Status: OK PackageFile: airpart_1.17.0.tgz PackageFileSize: 1.58 MiB