Package: agilp Version: 3.42.0 Command: /home/biocbuild/R/R/bin/R CMD check --install=check:agilp.install-out.txt --library=/home/biocbuild/R/R/site-library --no-vignettes --timings agilp_3.42.0.tar.gz StartedAt: 2025-11-18 06:27:44 -0000 (Tue, 18 Nov 2025) EndedAt: 2025-11-18 06:28:12 -0000 (Tue, 18 Nov 2025) EllapsedTime: 28.0 seconds RetCode: 0 Status: OK CheckDir: agilp.Rcheck Warnings: 0