Package: agilp Version: 3.42.0 Command: /home/biocbuild/bbs-3.22-bioc/R/bin/R CMD INSTALL agilp StartedAt: 2025-11-14 15:03:16 -0500 (Fri, 14 Nov 2025) EndedAt: 2025-11-14 15:03:25 -0500 (Fri, 14 Nov 2025) EllapsedTime: 9.2 seconds RetCode: 0 Status: OK