Package: aggregateBioVar Version: 1.19.1 Command: /home/biocbuild/R/R/bin/R CMD build --keep-empty-dirs --no-resave-data aggregateBioVar StartedAt: 2025-10-16 22:54:23 -0000 (Thu, 16 Oct 2025) EndedAt: 2025-10-16 22:56:02 -0000 (Thu, 16 Oct 2025) EllapsedTime: 99.0 seconds RetCode: 0 Status: OK PackageFile: aggregateBioVar_1.19.1.tar.gz PackageFileSize: 1.05 MiB