Package: aggregateBioVar Version: 1.19.1 Command: /home/biocbuild/bbs-3.22-bioc/R/bin/R CMD INSTALL aggregateBioVar StartedAt: 2025-10-20 15:18:15 -0400 (Mon, 20 Oct 2025) EndedAt: 2025-10-20 15:18:35 -0400 (Mon, 20 Oct 2025) EllapsedTime: 20.6 seconds RetCode: 0 Status: OK