Package: affyio Version: 1.79.0 Command: /home/biocbuild/bbs-3.22-bioc/R/bin/R CMD check --install=check:affyio.install-out.txt --library=/home/biocbuild/bbs-3.22-bioc/R/site-library --timings affyio_1.79.0.tar.gz StartedAt: 2025-10-03 20:54:22 -0400 (Fri, 03 Oct 2025) EndedAt: 2025-10-03 20:54:36 -0400 (Fri, 03 Oct 2025) EllapsedTime: 14.0 seconds RetCode: 0 Status: WARNINGS CheckDir: affyio.Rcheck Warnings: 2