Package: affyio Version: 1.80.0 Command: /Library/Frameworks/R.framework/Resources/bin/R CMD build --keep-empty-dirs --no-resave-data affyio StartedAt: 2025-11-10 15:35:52 -0500 (Mon, 10 Nov 2025) EndedAt: 2025-11-10 15:35:53 -0500 (Mon, 10 Nov 2025) EllapsedTime: 1.0 seconds RetCode: 0 Status: OK PackageFile: affyio_1.80.0.tar.gz PackageFileSize: 107.8 KiB