Back to Build/check report for BioC 3.22:   simplified   long
[A]BCDEFGHIJKLMNOPQRSTUVWXYZ

This page was generated on 2025-11-13 11:55 -0500 (Thu, 13 Nov 2025).

HostnameOSArch (*)R versionInstalled pkgs
taishanLinux (openEuler 24.03 LTS)aarch644.5.0 (2025-04-11) -- "How About a Twenty-Six" 4668
Click on any hostname to see more info about the system (e.g. compilers)      (*) as reported by 'uname -p', except on Windows and Mac OS X

All results for package affyio


To the developers/maintainers of the affyio package:
- Allow up to 24 hours (and sometimes 48 hours) for your latest push to git@git.bioconductor.org:packages/affyio.git to reflect on this report. See Troubleshooting Build Report for more information.
- Use the following Renviron settings to reproduce errors and warnings.
- If 'R CMD check' started to fail recently on the Linux builder(s) over a missing dependency, add the missing dependency to 'Suggests:' in your DESCRIPTION file. See Renviron.bioc for more information.

raw results

Package 29/2361HostnameOS / ArchINSTALLBUILDCHECKBUILD BIN
affyio 1.80.0  (landing page)
Ben Bolstad
Snapshot Date: 2025-11-12 13:45 -0500 (Wed, 12 Nov 2025)
git_url: https://git.bioconductor.org/packages/affyio
git_branch: RELEASE_3_22
git_last_commit: eb747bb
git_last_commit_date: 2025-10-29 09:42:03 -0500 (Wed, 29 Oct 2025)
taishanLinux (openEuler 24.03 LTS) / aarch64  OK    OK    WARNINGS  



Results for Bioconductor software packages that depend directly on package affyio

QUICK STATSOS / ArchINSTALLBUILDCHECKBUILD BIN
taishanLinux (openEuler 24.03 LTS) / aarch64
0010
0010
0136
Package 1/10HostnameOS / ArchINSTALLBUILDCHECKBUILD BIN
affy 1.88.0  (landing page)
Robert D. Shear
git_last_commit: 229aef4
git_last_commit_date: 2025-10-29 09:42:08 -0500
taishanLinux (openEuler 24.03 LTS) / aarch64  OK    OK    WARNINGS  
Package 2/10HostnameOS / ArchINSTALLBUILDCHECKBUILD BIN
affylmGUI 1.84.0  (landing page)
Gordon Smyth
git_last_commit: cb9ab7b
git_last_commit_date: 2025-10-29 09:54:46 -0500
taishanLinux (openEuler 24.03 LTS) / aarch64  OK    OK    OK  
Package 3/10HostnameOS / ArchINSTALLBUILDCHECKBUILD BIN
crlmm 1.68.0  (landing page)
Benilton S Carvalho
git_last_commit: 7d8b5c6
git_last_commit_date: 2025-10-29 10:02:32 -0500
taishanLinux (openEuler 24.03 LTS) / aarch64  OK    OK    WARNINGS  
Package 4/10HostnameOS / ArchINSTALLBUILDCHECKBUILD BIN
ExiMiR 2.52.0  (landing page)
Sylvain Gubian
git_last_commit: f23173f
git_last_commit_date: 2025-10-29 10:06:33 -0500
taishanLinux (openEuler 24.03 LTS) / aarch64  OK    OK    OK  
Package 5/10HostnameOS / ArchINSTALLBUILDCHECKBUILD BIN
gcrma 2.82.0  (landing page)
Z. Wu
git_last_commit: 3e3e0ce
git_last_commit_date: 2025-10-29 09:53:32 -0500
taishanLinux (openEuler 24.03 LTS) / aarch64  OK    OK    OK  
Package 6/10HostnameOS / ArchINSTALLBUILDCHECKBUILD BIN
makecdfenv 1.86.0  (landing page)
James W. MacDonald
git_last_commit: 74bd911
git_last_commit_date: 2025-10-29 09:42:16 -0500
taishanLinux (openEuler 24.03 LTS) / aarch64  OK    OK    OK  
Package 7/10HostnameOS / ArchINSTALLBUILDCHECKBUILD BIN
oligo 1.74.0  (landing page)
Benilton Carvalho
git_last_commit: 03318a4
git_last_commit_date: 2025-10-29 09:56:42 -0500
taishanLinux (openEuler 24.03 LTS) / aarch64  OK    OK    ERROR  
Package 8/10HostnameOS / ArchINSTALLBUILDCHECKBUILD BIN
oligoClasses 1.72.0  (landing page)
Benilton Carvalho and Robert Scharpf
git_last_commit: d8ec574
git_last_commit_date: 2025-10-29 09:59:50 -0500
taishanLinux (openEuler 24.03 LTS) / aarch64  OK    OK    WARNINGS  
Package 9/10HostnameOS / ArchINSTALLBUILDCHECKBUILD BIN
puma 3.52.0  (landing page)
Xuejun Liu
git_last_commit: fa4369b
git_last_commit_date: 2025-10-29 09:59:30 -0500
taishanLinux (openEuler 24.03 LTS) / aarch64  OK    OK    OK  
Package 10/10HostnameOS / ArchINSTALLBUILDCHECKBUILD BIN
SCAN.UPC 2.52.0  (landing page)
Stephen R. Piccolo
git_last_commit: 8c4e126
git_last_commit_date: 2025-10-29 10:12:17 -0500
taishanLinux (openEuler 24.03 LTS) / aarch64  OK    OK    OK