Package: affycomp Version: 1.85.0 Command: /home/biocbuild/R/R/bin/R CMD INSTALL affycomp StartedAt: 2025-10-06 20:23:47 -0000 (Mon, 06 Oct 2025) EndedAt: 2025-10-06 20:23:52 -0000 (Mon, 06 Oct 2025) EllapsedTime: 5.5 seconds RetCode: 0 Status: OK