Package: affycomp Version: 1.85.0 Command: rm -rf affycomp.buildbin-libdir && mkdir affycomp.buildbin-libdir && F:\biocbuild\bbs-3.22-bioc\R\bin\R.exe CMD INSTALL --build --library=affycomp.buildbin-libdir affycomp_1.85.0.tar.gz StartedAt: 2025-08-15 09:41:26 -0400 (Fri, 15 Aug 2025) EndedAt: 2025-08-15 09:41:58 -0400 (Fri, 15 Aug 2025) EllapsedTime: 32.6 seconds RetCode: 0 Status: OK PackageFile: affycomp_1.85.0.zip PackageFileSize: 8.017 MiB