Package: affycomp Version: 1.85.0 Command: /Library/Frameworks/R.framework/Resources/bin/R CMD check --install=check:affycomp.install-out.txt --library=/Library/Frameworks/R.framework/Resources/library --no-vignettes --timings affycomp_1.85.0.tar.gz StartedAt: 2025-10-03 19:40:36 -0400 (Fri, 03 Oct 2025) EndedAt: 2025-10-03 19:41:32 -0400 (Fri, 03 Oct 2025) EllapsedTime: 55.9 seconds RetCode: 0 Status: OK CheckDir: affycomp.Rcheck Warnings: 0