Package: affycomp Version: 1.85.0 Command: rm -rf affycomp.buildbin-libdir && mkdir affycomp.buildbin-libdir && /Users/biocbuild/BBS/utils/build-universal.sh affycomp_1.85.0.tar.gz /Library/Frameworks/R.framework/Resources/bin/R affycomp.buildbin-libdir StartedAt: 2025-10-03 01:43:58 -0400 (Fri, 03 Oct 2025) EndedAt: 2025-10-03 01:44:15 -0400 (Fri, 03 Oct 2025) EllapsedTime: 16.1 seconds RetCode: 0 Status: OK PackageFile: affycomp_1.85.0.tgz PackageFileSize: 8.107 MiB