Package: affycomp Version: 1.85.0 Command: /Library/Frameworks/R.framework/Resources/bin/R CMD build --keep-empty-dirs --no-resave-data affycomp StartedAt: 2025-10-09 15:36:07 -0400 (Thu, 09 Oct 2025) EndedAt: 2025-10-09 15:36:13 -0400 (Thu, 09 Oct 2025) EllapsedTime: 6.1 seconds RetCode: 0 Status: OK PackageFile: affycomp_1.85.0.tar.gz PackageFileSize: 7.98 MiB