Package: affycomp Version: 1.85.0 Command: rm -rf affycomp.buildbin-libdir && mkdir affycomp.buildbin-libdir && /Users/biocbuild/BBS/utils/build-universal.sh affycomp_1.85.0.tar.gz /Library/Frameworks/R.framework/Resources/bin/R affycomp.buildbin-libdir StartedAt: 2025-10-08 22:38:12 -0400 (Wed, 08 Oct 2025) EndedAt: 2025-10-08 22:38:15 -0400 (Wed, 08 Oct 2025) EllapsedTime: 3.1 seconds RetCode: 0 Status: OK PackageFile: affycomp_1.85.0.tgz PackageFileSize: 8.108 MiB