Package: affyPLM Version: 1.85.0 Command: /home/biocbuild/R/R/bin/R CMD INSTALL affyPLM StartedAt: 2025-10-20 20:29:22 -0000 (Mon, 20 Oct 2025) EndedAt: 2025-10-20 20:29:50 -0000 (Mon, 20 Oct 2025) EllapsedTime: 28.0 seconds RetCode: 0 Status: OK