Package: affyPLM Version: 1.85.0 Command: /home/biocbuild/R/R/bin/R CMD check --install=check:affyPLM.install-out.txt --library=/home/biocbuild/R/R/site-library --no-vignettes --timings affyPLM_1.85.0.tar.gz StartedAt: 2025-10-21 04:21:24 -0000 (Tue, 21 Oct 2025) EndedAt: 2025-10-21 04:24:53 -0000 (Tue, 21 Oct 2025) EllapsedTime: 208.2 seconds RetCode: 0 Status: WARNINGS CheckDir: affyPLM.Rcheck Warnings: 1