Package: affyPLM Version: 1.85.0 Command: F:\biocbuild\bbs-3.22-bioc\R\bin\R.exe CMD check --no-multiarch --install=check:affyPLM.install-out.txt --library=F:\biocbuild\bbs-3.22-bioc\R\library --no-vignettes --timings affyPLM_1.85.0.tar.gz StartedAt: 2025-08-15 00:22:27 -0400 (Fri, 15 Aug 2025) EndedAt: 2025-08-15 00:25:23 -0400 (Fri, 15 Aug 2025) EllapsedTime: 176.2 seconds RetCode: 0 Status: WARNINGS CheckDir: affyPLM.Rcheck Warnings: 1