Package: affyPLM Version: 1.85.0 Command: chmod a+r affyPLM -R && F:\biocbuild\bbs-3.22-bioc\R\bin\R.exe CMD build --keep-empty-dirs --no-resave-data affyPLM StartedAt: 2025-08-14 18:22:22 -0400 (Thu, 14 Aug 2025) EndedAt: 2025-08-14 18:25:39 -0400 (Thu, 14 Aug 2025) EllapsedTime: 197.2 seconds RetCode: 0 Status: OK PackageFile: affyPLM_1.85.0.tar.gz PackageFileSize: 4.564 MiB