Package: affyPLM Version: 1.85.0 Command: rm -rf affyPLM.buildbin-libdir && mkdir affyPLM.buildbin-libdir && F:\biocbuild\bbs-3.22-bioc\R\bin\R.exe CMD INSTALL --build --library=affyPLM.buildbin-libdir affyPLM_1.85.0.tar.gz StartedAt: 2025-08-15 09:41:40 -0400 (Fri, 15 Aug 2025) EndedAt: 2025-08-15 09:42:58 -0400 (Fri, 15 Aug 2025) EllapsedTime: 78.0 seconds RetCode: 0 Status: OK PackageFile: affyPLM_1.85.0.zip PackageFileSize: 2.799 MiB