Package: affyPLM Version: 1.85.0 Command: /home/biocbuild/bbs-3.22-bioc/R/bin/R CMD INSTALL affyPLM StartedAt: 2025-10-20 15:15:39 -0400 (Mon, 20 Oct 2025) EndedAt: 2025-10-20 15:15:58 -0400 (Mon, 20 Oct 2025) EllapsedTime: 19.2 seconds RetCode: 0 Status: OK