Package: affyPLM Version: 1.85.0 Command: /home/biocbuild/bbs-3.22-bioc/R/bin/R CMD check --install=check:affyPLM.install-out.txt --library=/home/biocbuild/bbs-3.22-bioc/R/site-library --timings affyPLM_1.85.0.tar.gz StartedAt: 2025-10-20 20:51:36 -0400 (Mon, 20 Oct 2025) EndedAt: 2025-10-20 20:55:54 -0400 (Mon, 20 Oct 2025) EllapsedTime: 258.3 seconds RetCode: 0 Status: WARNINGS CheckDir: affyPLM.Rcheck Warnings: 1