Package: affyPLM Version: 1.85.0 Command: /home/biocbuild/bbs-3.22-bioc/R/bin/R CMD build --keep-empty-dirs --no-resave-data --md5 affyPLM StartedAt: 2025-10-20 16:07:10 -0400 (Mon, 20 Oct 2025) EndedAt: 2025-10-20 16:08:52 -0400 (Mon, 20 Oct 2025) EllapsedTime: 102.1 seconds RetCode: 0 Status: OK PackageFile: affyPLM_1.85.0.tar.gz PackageFileSize: 7.159 MiB