Package: affyPLM Version: 1.85.0 Command: /Library/Frameworks/R.framework/Resources/bin/R CMD INSTALL affyPLM StartedAt: 2025-10-19 15:08:22 -0400 (Sun, 19 Oct 2025) EndedAt: 2025-10-19 15:08:30 -0400 (Sun, 19 Oct 2025) EllapsedTime: 8.6 seconds RetCode: 0 Status: OK