Package: affyILM Version: 1.62.0 Command: /Library/Frameworks/R.framework/Resources/bin/R CMD build --keep-empty-dirs --no-resave-data affyILM StartedAt: 2025-10-31 15:39:42 -0400 (Fri, 31 Oct 2025) EndedAt: 2025-10-31 15:40:01 -0400 (Fri, 31 Oct 2025) EllapsedTime: 19.2 seconds RetCode: 0 Status: OK PackageFile: affyILM_1.62.0.tar.gz PackageFileSize: 233.7 KiB