Package: affyContam Version: 1.67.0 Command: /Library/Frameworks/R.framework/Resources/bin/R CMD INSTALL affyContam StartedAt: 2025-10-24 15:33:32 -0400 (Fri, 24 Oct 2025) EndedAt: 2025-10-24 15:33:35 -0400 (Fri, 24 Oct 2025) EllapsedTime: 2.1 seconds RetCode: 0 Status: OK