Package: affyContam Version: 1.67.0 Command: rm -rf affyContam.buildbin-libdir && mkdir affyContam.buildbin-libdir && /Users/biocbuild/BBS/utils/build-universal.sh affyContam_1.67.0.tar.gz /Library/Frameworks/R.framework/Resources/bin/R affyContam.buildbin-libdir StartedAt: 2025-10-24 22:53:26 -0400 (Fri, 24 Oct 2025) EndedAt: 2025-10-24 22:53:28 -0400 (Fri, 24 Oct 2025) EllapsedTime: 2.0 seconds RetCode: 0 Status: OK PackageFile: affyContam_1.67.0.tgz PackageFileSize: 303.5 KiB