Package: affy Version: 1.87.0 Command: /home/biocbuild/R/R/bin/R CMD build --keep-empty-dirs --no-resave-data affy StartedAt: 2025-09-29 21:51:20 -0000 (Mon, 29 Sep 2025) EndedAt: 2025-09-29 21:52:34 -0000 (Mon, 29 Sep 2025) EllapsedTime: 74.0 seconds RetCode: 0 Status: OK PackageFile: affy_1.87.0.tar.gz PackageFileSize: 1.649 MiB