Package: affy Version: 1.88.0 Command: /Library/Frameworks/R.framework/Resources/bin/R CMD build --keep-empty-dirs --no-resave-data affy StartedAt: 2025-11-10 15:35:45 -0500 (Mon, 10 Nov 2025) EndedAt: 2025-11-10 15:36:15 -0500 (Mon, 10 Nov 2025) EllapsedTime: 30.3 seconds RetCode: 0 Status: OK PackageFile: affy_1.88.0.tar.gz PackageFileSize: 1.685 MiB