Package: adverSCarial Version: 1.7.1 Command: /home/biocbuild/bbs-3.22-bioc/R/bin/R CMD INSTALL adverSCarial StartedAt: 2025-10-20 15:14:28 -0400 (Mon, 20 Oct 2025) EndedAt: 2025-10-20 15:14:32 -0400 (Mon, 20 Oct 2025) EllapsedTime: 4.1 seconds RetCode: 0 Status: OK