Package: adverSCarial Version: 1.7.1 Command: /Library/Frameworks/R.framework/Resources/bin/R CMD check --install=check:adverSCarial.install-out.txt --library=/Library/Frameworks/R.framework/Resources/library --no-vignettes --timings adverSCarial_1.7.1.tar.gz StartedAt: 2025-10-20 18:20:57 -0400 (Mon, 20 Oct 2025) EndedAt: 2025-10-20 18:21:35 -0400 (Mon, 20 Oct 2025) EllapsedTime: 37.6 seconds RetCode: 0 Status: WARNINGS CheckDir: adverSCarial.Rcheck Warnings: 2