Package: adverSCarial Version: 1.7.1 Command: /Library/Frameworks/R.framework/Resources/bin/R CMD build --keep-empty-dirs --no-resave-data adverSCarial StartedAt: 2025-10-20 15:35:39 -0400 (Mon, 20 Oct 2025) EndedAt: 2025-10-20 15:35:49 -0400 (Mon, 20 Oct 2025) EllapsedTime: 10.1 seconds RetCode: 0 Status: OK PackageFile: adverSCarial_1.7.1.tar.gz PackageFileSize: 169.1 KiB