Package: adductomicsR Version: 1.25.0 Command: /home/biocbuild/R/R/bin/R CMD check --install=check:adductomicsR.install-out.txt --library=/home/biocbuild/R/R/site-library --no-vignettes --timings adductomicsR_1.25.0.tar.gz StartedAt: 2025-10-03 04:29:14 -0000 (Fri, 03 Oct 2025) EndedAt: 2025-10-03 04:38:06 -0000 (Fri, 03 Oct 2025) EllapsedTime: 532.9 seconds RetCode: 0 Status: WARNINGS CheckDir: adductomicsR.Rcheck Warnings: 1